BEGIN:VCALENDAR
VERSION:2.0
PRODID:-//13.32.181.67//NONSGML kigkonsult.se iCalcreator 2.26.9//
CALSCALE:GREGORIAN
METHOD:PUBLISH
X-WR-CALNAME:New Mexico Board of Licensure for Professional Engineers &amp\
 ; Professional Surveyors
X-WR-CALDESC:The Act providing for the creation of the State Board of Regis
 tration for Professional Engineers and Land Surveyors and the registration
  of professional engineers and land surveyors was passed by the State Legi
 slature of New Mexico at the 1935 session\, was approved by Governor Clyde
  Tingley on February 21\, 1935\, and became effective May 22\, 1935.
X-FROM-URL:https://www.sblpes.state.nm.us
X-WR-TIMEZONE:America/Denver
BEGIN:VTIMEZONE
TZID:America/Denver
X-LIC-LOCATION:America/Denver
BEGIN:STANDARD
DTSTART:20201101T020000
TZOFFSETFROM:-0600
TZOFFSETTO:-0700
RDATE:20211107T020000,20221106T020000
TZNAME:MST
END:STANDARD
BEGIN:DAYLIGHT
DTSTART:20210314T020000
TZOFFSETFROM:-0700
TZOFFSETTO:-0600
RDATE:20220313T020000
TZNAME:MDT
END:DAYLIGHT
END:VTIMEZONE
BEGIN:VEVENT
UID:ai1ec-484@www.sblpes.state.nm.us
DTSTAMP:20210509T114522Z
CATEGORIES;LANGUAGE=en-US:Application Submittal Deadline
CONTACT:
DESCRIPTION:All applications\, letters of request to re-take the PE or PS e
 xam\, and all supporting documentation MUST be received on the application
  deadline by no later than 5:00 p.m. MST – NO EXCEPTIONS.
DTSTART;TZID=America/Denver:20210315T170000
DTEND;TZID=America/Denver:20210315T173000
SEQUENCE:0
SUMMARY:April 2021 Board Meeting Application Submittal Deadline
URL:https://www.sblpes.state.nm.us/event/april-2021-board-meeting-applicati
 on-submittal-deadline/
X-COST-TYPE:free
X-ALT-DESC;FMTTYPE=text/html:<!DOCTYPE HTML PUBLIC '-//W3C//DTD HTML 3.2//E
 N'>\\n<HTML>\\n<HEAD>\\n<TITLE></TITLE>\\n</HEAD>\\n<BODY><div class='et-l
  et-l--post'>\n			<div class='et_builder_inner_content et_pb_gutters3'>\n		<pre
 >All applications\, letters of request to re-take the PE or PS exam\, and 
 all supporting documentation MUST be received on the application deadline 
 by no later than 5:00 p.m. MST – NO EXCEPTIONS.</pre>\n\n		</div><!-- .et_bu
 ilder_inner_content -->\n	</div><!-- .et-l -->\n	</BODY></HTML>
END:VEVENT
END:VCALENDAR
